BEGIN:VCALENDAR
VERSION:2.0
PRODID:-//Silverleaf Kentucky - ECPv6.3.2//NONSGML v1.0//EN
CALSCALE:GREGORIAN
METHOD:PUBLISH
X-WR-CALNAME:Silverleaf Kentucky
X-ORIGINAL-URL:https://silverleafky.org
X-WR-CALDESC:Events for Silverleaf Kentucky
REFRESH-INTERVAL;VALUE=DURATION:PT1H
X-Robots-Tag:noindex
X-PUBLISHED-TTL:PT1H
BEGIN:VTIMEZONE
TZID:America/Kentucky/Louisville
BEGIN:DAYLIGHT
TZOFFSETFROM:-0500
TZOFFSETTO:-0400
TZNAME:EDT
DTSTART:20230312T070000
END:DAYLIGHT
BEGIN:STANDARD
TZOFFSETFROM:-0400
TZOFFSETTO:-0500
TZNAME:EST
DTSTART:20231105T060000
END:STANDARD
END:VTIMEZONE
BEGIN:VEVENT
DTSTART;VALUE=DATE:20230801
DTEND;VALUE=DATE:20230901
DTSTAMP:20260421T165749
CREATED:20230721T095229Z
LAST-MODIFIED:20230721T095258Z
UID:11043-1690848000-1693526399@silverleafky.org
SUMMARY:Cocktails & Concerts Giveaway
DESCRIPTION:Are you ready for an unforgettable experience? Enter our amazing giveaway today and you could win over $700 worth of prizes! Don’t miss out on this chance to win big and create memories that will last a lifetime. The purchase of your ticket is a gift to Silverleaf which will allow us to provide services to victims of sexual violence\, child abuse and human trafficking. \n\n\n\n\n\n\nRaffle Details\nRun Time: August 1-August 31\,2023 at 11:59 p.m. EST\nCategory: Raffle\nTicket Price: $50/single ticket\nDrawing Date: September 1\, 2023; Noon EST; Facebook Live \nWinnings include over $700 worth of prizes: \n\n2 General Admission Tickets to Big & Rich\nFriday\, Sept 15th @ 7:30 p.m.\nAmp at Log Still Distillery\n($208 value)\n2 Floor Level Tickets to Twitty & Lynn – A Salute to Conway and Loretta\nState Theatre\n($100 value)\nTour & Tasting Experience at Log Still Distillery($30 value)\nJ.R. Neighbors – Gift Certificate($75 value)\nCavern Club Private Booth ($250 value)\n4 tickets to Bardstown Bourbon Company – tour & tasting ($80 value)
URL:https://silverleafky.org/event/cocktails-concerts-giveaway/
CATEGORIES:Fundraising
ATTACH;FMTTYPE=image/png:https://silverleafky.org/assets/uploads/2023/07/Silverleaf-Cocktails-Concerts-Giveaway.png
END:VEVENT
END:VCALENDAR