BEGIN:VCALENDAR
VERSION:2.0
PRODID:-//Silverleaf Kentucky - ECPv6.3.2//NONSGML v1.0//EN
CALSCALE:GREGORIAN
METHOD:PUBLISH
X-ORIGINAL-URL:https://silverleafky.org
X-WR-CALDESC:Events for Silverleaf Kentucky
REFRESH-INTERVAL;VALUE=DURATION:PT1H
X-Robots-Tag:noindex
X-PUBLISHED-TTL:PT1H
BEGIN:VTIMEZONE
TZID:America/New_York
BEGIN:DAYLIGHT
TZOFFSETFROM:-0500
TZOFFSETTO:-0400
TZNAME:EDT
DTSTART:20200308T070000
END:DAYLIGHT
BEGIN:STANDARD
TZOFFSETFROM:-0400
TZOFFSETTO:-0500
TZNAME:EST
DTSTART:20201101T060000
END:STANDARD
END:VTIMEZONE
BEGIN:VEVENT
DTSTART;TZID=America/New_York:20201009T163000
DTEND;TZID=America/New_York:20201009T173000
DTSTAMP:20260420T144947
CREATED:20200902T194037Z
LAST-MODIFIED:20200902T194045Z
UID:7613-1602261000-1602264600@silverleafky.org
SUMMARY:Art with Amy: Salt Painting
DESCRIPTION:Join us for a free online art class! At this time\, we are offering 🧑‍🎨 Art with Amy on our Facebook Page. These interactive art classes will take place LIVE on the second and fourth Fridays of each month\, led by Amy Hanninen\, Educator & Prevention Specialist. \nAll classes are FREE and if you don’t have the necessary items on hand to participate\, we’re offering free art bags that you can pick up at our office. \nTODAY’S CLASS  🎨\nSalt Painting\nParticipants will learn how to make a Salt Painting using Kool-Aid\, salt\, paper\, and various brush options that can be found at home. 🎨 We hope you’ll join us.
URL:https://silverleafky.org/event/art-amy-salt-painting/
CATEGORIES:Art with Amy
ATTACH;FMTTYPE=image/png:https://silverleafky.org/assets/uploads/2020/09/Art-with-Amy-Event.png
END:VEVENT
BEGIN:VEVENT
DTSTART;TZID=America/New_York:20200925T163000
DTEND;TZID=America/New_York:20200925T173000
DTSTAMP:20260420T144947
CREATED:20200902T193852Z
LAST-MODIFIED:20200902T193852Z
UID:7611-1601051400-1601055000@silverleafky.org
SUMMARY:Art with Amy: Sponge Painting
DESCRIPTION:Join us for our new online art classes! At this time\, we are offering 🧑‍🎨 Art with Amy on our Facebook Page. These interactive art classes will take place LIVE on the second and fourth Fridays of each month\, led by Amy Hanninen\, Educator & Prevention Specialist. \nAll classes are FREE and if you don’t have the necessary items on hand to participate\, we’re offering free art bags that you can pick up at our office. \nTODAY’S CLASS  🎨\nSponge Painting\nParticipants will learn how to make a Sponge Painting using paper\, sponges\, and Kool-Aid. 🎨 We hope you’ll join us.
URL:https://silverleafky.org/event/art-amy-sponge-painting/
CATEGORIES:Art with Amy
ATTACH;FMTTYPE=image/png:https://silverleafky.org/assets/uploads/2020/09/Art-with-Amy-Event.png
END:VEVENT
BEGIN:VEVENT
DTSTART;TZID=America/New_York:20200911T163000
DTEND;TZID=America/New_York:20200911T173000
DTSTAMP:20260420T144947
CREATED:20200902T193701Z
LAST-MODIFIED:20200902T194201Z
UID:7608-1599841800-1599845400@silverleafky.org
SUMMARY:Art with Amy: Q-Tip Painting
DESCRIPTION:Join us for a free online art class! At this time\, we are offering 🧑‍🎨 Art with Amy on our Facebook Page. These interactive art classes will take place LIVE on the second and fourth Fridays of each month\, led by Amy Hanninen\, Educator & Prevention Specialist. \nAll classes are FREE and if you don’t have the necessary items on hand to participate\, we’re offering free art bags that you can pick up at our office. \nTODAY’S CLASS  🎨\nQ-Tip Painting\nParticipants will learn how to make a Q-Tip Painting using cotton swabs\, paper\, Kool-Aid\, water\, and small cups/bowls. 🎨 We hope you’ll join us.
URL:https://silverleafky.org/event/art-amy-q-tip-painting/
CATEGORIES:Art with Amy
ATTACH;FMTTYPE=image/png:https://silverleafky.org/assets/uploads/2020/09/Art-with-Amy-Event.png
END:VEVENT
BEGIN:VEVENT
DTSTART;TZID=America/New_York:20200828T163000
DTEND;TZID=America/New_York:20200828T173000
DTSTAMP:20260420T144947
CREATED:20200612T164419Z
LAST-MODIFIED:20200612T164419Z
UID:6944-1598632200-1598635800@silverleafky.org
SUMMARY:Art with Amy: Tea Painting
DESCRIPTION:Join us for our new online art classes! At this time\, we are offering 🧑‍🎨 Art with Amy on our Facebook Page. These interactive art classes will take place LIVE on the second and fourth Fridays of each month\, led by Amy Hanninen\, Educator & Prevention Specialist. \nAll classes are FREE and if you don’t have the necessary items on hand to participate\, we’re offering free art bags that you can pick up at our office. \nTODAY’S CLASS  🎨\nTea Painting\nParticipants will learn how to make a Tea Painting by diffusing tea bags in different amounts of water to create different colors\, then using a straw/blow technique or non-art items to create a painting. 🎨 We hope you’ll join us.
URL:https://silverleafky.org/event/art-amy-tea-painting/
CATEGORIES:Art with Amy
ATTACH;FMTTYPE=image/png:https://silverleafky.org/assets/uploads/2020/06/Art-with-Amy-Events.png
END:VEVENT
BEGIN:VEVENT
DTSTART;TZID=America/New_York:20200814T163000
DTEND;TZID=America/New_York:20200814T173000
DTSTAMP:20260420T144947
CREATED:20200612T164331Z
LAST-MODIFIED:20200612T164331Z
UID:6942-1597422600-1597426200@silverleafky.org
SUMMARY:Art with Amy: String Painting
DESCRIPTION:Join us for our new online art classes! At this time\, we are offering 🧑‍🎨 Art with Amy on our Facebook Page. These interactive art classes will take place LIVE on the second and fourth Fridays of each month\, led by Amy Hanninen\, Educator & Prevention Specialist. \nAll classes are FREE and if you don’t have the necessary items on hand to participate\, we’re offering free art bags that you can pick up at our office. \nTODAY’S CLASS  🎨\nString Painting\nParticipants will learn how to make a String Painting using Kool-Aid\, water\, and string or yarn. 🎨 We hope you’ll join us.
URL:https://silverleafky.org/event/art-amy-string-painting/
CATEGORIES:Art with Amy
ATTACH;FMTTYPE=image/png:https://silverleafky.org/assets/uploads/2020/06/Art-with-Amy-Events.png
END:VEVENT
BEGIN:VEVENT
DTSTART;TZID=America/New_York:20200724T163000
DTEND;TZID=America/New_York:20200724T173000
DTSTAMP:20260420T144947
CREATED:20200612T164237Z
LAST-MODIFIED:20200612T164237Z
UID:6940-1595608200-1595611800@silverleafky.org
SUMMARY:Art with Amy: Symmetry Art
DESCRIPTION:Join us for our new online art classes! At this time\, we are offering 🧑‍🎨 Art with Amy on our Facebook Page. These interactive art classes will take place LIVE on the second and fourth Fridays of each month\, led by Amy Hanninen\, Educator & Prevention Specialist. \nAll classes are FREE and if you don’t have the necessary items on hand to participate\, we’re offering free art bags that you can pick up at our office. \nTODAY’S CLASS  🎨\nSymmetry Art\nParticipants will learn how to make Symmetry Art by using paint\, condiments\, or Kool-Aid. All ages are welcome! 🎨 We hope you’ll join us.
URL:https://silverleafky.org/event/art-amy-symmetry-art/
CATEGORIES:Art with Amy
ATTACH;FMTTYPE=image/png:https://silverleafky.org/assets/uploads/2020/06/Art-with-Amy-Events.png
END:VEVENT
BEGIN:VEVENT
DTSTART;TZID=America/New_York:20200710T163000
DTEND;TZID=America/New_York:20200710T173000
DTSTAMP:20260420T144947
CREATED:20200612T164140Z
LAST-MODIFIED:20200612T164140Z
UID:6938-1594398600-1594402200@silverleafky.org
SUMMARY:Art with Amy: Random Art
DESCRIPTION:Join us for our new online art classes! At this time\, we are offering 🧑‍🎨 Art with Amy on our Facebook Page. These interactive art classes will take place LIVE on the second and fourth Fridays of each month\, led by Amy Hanninen\, Educator & Prevention Specialist. \nAll classes are FREE and if you don’t have the necessary items on hand to participate\, we’re offering free art bags that you can pick up at our office. \nTODAY’S CLASS  🎨\nRandom Art\nParticipants will learn how to make Random Art using Kool-Aid and different items that wouldn’t typically be considered art supplies such as pom poms\, Q-tips\, spoons\, sponges\, and more! All ages are welcome! 🎨 We hope you’ll join us.
URL:https://silverleafky.org/event/art-amy-random-art/
CATEGORIES:Art with Amy
ATTACH;FMTTYPE=image/png:https://silverleafky.org/assets/uploads/2020/06/Art-with-Amy-Events.png
END:VEVENT
BEGIN:VEVENT
DTSTART;TZID=America/New_York:20200626T163000
DTEND;TZID=America/New_York:20200626T173000
DTSTAMP:20260420T144947
CREATED:20200612T163924Z
LAST-MODIFIED:20200612T163932Z
UID:6935-1593189000-1593192600@silverleafky.org
SUMMARY:Art with Amy: Calming Bottles
DESCRIPTION:We’re excited to announce our new online art classes! In the coming months\, we will be offering 🧑‍🎨 Art with Amy on our Facebook Page. These interactive art classes will take place LIVE on the second and fourth Fridays of each month\, beginning in June and will be led by Amy Hanninen\, Educator & Prevention Specialist. \nAll classes are FREE and if you don’t have the necessary items on hand to participate\, we’re offering free art bags that you can pick up at our office. \nTODAY’S CLASS  🎨\nCalming Bottles\nParticipants will learn how to make Calming Bottles using a bottle\, water\, and other items such as Kool-Air\, sequins\, buttons\, and other trinkets. All ages are welcome! 🎨 We hope you’ll join us.
URL:https://silverleafky.org/event/art-amy-calming-bottles/
CATEGORIES:Art with Amy
ATTACH;FMTTYPE=image/png:https://silverleafky.org/assets/uploads/2020/06/Art-with-Amy-Events.png
END:VEVENT
BEGIN:VEVENT
DTSTART;TZID=America/New_York:20200612T163000
DTEND;TZID=America/New_York:20200612T173000
DTSTAMP:20260420T144947
CREATED:20200612T163810Z
LAST-MODIFIED:20200612T163810Z
UID:6932-1591979400-1591983000@silverleafky.org
SUMMARY:Art with Amy: Blow Art
DESCRIPTION:We’re excited to announce our new online art classes! In the coming months\, we will be offering 🧑‍🎨 Art with Amy on our Facebook Page. These interactive art classes will take place LIVE on the second and fourth Fridays of each month\, beginning in June and will be led by Amy Hanninen\, Educator & Prevention Specialist. \nAll classes are FREE and if you don’t have the necessary items on hand to participate\, we’re offering free art bags that you can pick up at our office. \nTODAY’S CLASS  🎨\nBlow Art\nParticipants will learn how to make Blow Art using Kool-Aid\, water\, and a straw. It’s similar to creating a Rorschach Inkblot. All ages are welcome! 🎨 We hope you’ll join us.
URL:https://silverleafky.org/event/art-amy-blow-art/
CATEGORIES:Art with Amy
ATTACH;FMTTYPE=image/png:https://silverleafky.org/assets/uploads/2020/06/Art-with-Amy-Events.png
END:VEVENT
END:VCALENDAR