BEGIN:VCALENDAR
VERSION:2.0
PRODID:-//Silverleaf Kentucky - ECPv6.3.2//NONSGML v1.0//EN
CALSCALE:GREGORIAN
METHOD:PUBLISH
X-WR-CALNAME:Silverleaf Kentucky
X-ORIGINAL-URL:https://silverleafky.org
X-WR-CALDESC:Events for Silverleaf Kentucky
REFRESH-INTERVAL;VALUE=DURATION:PT1H
X-Robots-Tag:noindex
X-PUBLISHED-TTL:PT1H
BEGIN:VTIMEZONE
TZID:America/New_York
BEGIN:DAYLIGHT
TZOFFSETFROM:-0500
TZOFFSETTO:-0400
TZNAME:EDT
DTSTART:20190310T070000
END:DAYLIGHT
BEGIN:STANDARD
TZOFFSETFROM:-0400
TZOFFSETTO:-0500
TZNAME:EST
DTSTART:20191103T060000
END:STANDARD
END:VTIMEZONE
BEGIN:VEVENT
DTSTART;TZID=America/New_York:20190418T190000
DTEND;TZID=America/New_York:20190418T200000
DTSTAMP:20260420T195706
CREATED:20190318T133716Z
LAST-MODIFIED:20190318T133716Z
UID:2892-1555614000-1555617600@silverleafky.org
SUMMARY:Online Support Group
DESCRIPTION:LINK:  https://affiliate.rainn.org/helproom/SILVERLEAF \nSCAN:              \n  \nThe Silverleaf HelpRoom is anonymous and secure space for survivors of sexual violence to connect with each other. Contact us at 270-234-9236 or email us at contactus@silverleafky.org with questions.
URL:https://silverleafky.org/event/online-support-group-7/
CATEGORIES:Online Support
END:VEVENT
BEGIN:VEVENT
DTSTART;TZID=America/New_York:20190404T070000
DTEND;TZID=America/New_York:20190404T200000
DTSTAMP:20260420T195706
CREATED:20190318T133509Z
LAST-MODIFIED:20190318T133509Z
UID:2890-1554361200-1554408000@silverleafky.org
SUMMARY:Online Support Group
DESCRIPTION:LINK:  https://affiliate.rainn.org/helproom/SILVERLEAF \nSCAN:              \n  \nThe Silverleaf HelpRoom is anonymous and secure space for survivors of sexual violence to connect with each other. Contact us at 270-234-9236 or email us at contactus@silverleafky.org with questions.
URL:https://silverleafky.org/event/online-support-group-6/
CATEGORIES:Online Support
END:VEVENT
BEGIN:VEVENT
DTSTART;TZID=America/New_York:20190321T190000
DTEND;TZID=America/New_York:20190321T200000
DTSTAMP:20260420T195706
CREATED:20190115T202638Z
LAST-MODIFIED:20190116T173603Z
UID:2783-1553194800-1553198400@silverleafky.org
SUMMARY:Online Support Group
DESCRIPTION:LINK:  https://affiliate.rainn.org/helproom/SILVERLEAF \nSCAN:              \n  \nThe Silverleaf HelpRoom is anonymous and secure space for survivors of sexual violence to connect with each other. Contact us at 270-234-9236 or email us at contactus@silverleafky.org with questions.
URL:https://silverleafky.org/event/online-support-group-5/
CATEGORIES:Online Support
ATTACH;FMTTYPE=image/png:https://silverleafky.org/assets/uploads/2019/01/Online-Support-Group-4.png
END:VEVENT
BEGIN:VEVENT
DTSTART;TZID=America/New_York:20190307T190000
DTEND;TZID=America/New_York:20190307T200000
DTSTAMP:20260420T195706
CREATED:20190115T202331Z
LAST-MODIFIED:20190116T173544Z
UID:2777-1551985200-1551988800@silverleafky.org
SUMMARY:Online Support Group
DESCRIPTION:LINK:  https://affiliate.rainn.org/helproom/SILVERLEAF \nSCAN:              \n  \nThe Silverleaf HelpRoom is anonymous and secure space for survivors of sexual violence to connect with each other. Contact us at 270-234-9236 or email us at contactus@silverleafky.org with questions.
URL:https://silverleafky.org/event/online-support-group-4/
CATEGORIES:Online Support
ATTACH;FMTTYPE=image/png:https://silverleafky.org/assets/uploads/2019/01/Online-Support-Group-3.png
END:VEVENT
BEGIN:VEVENT
DTSTART;TZID=America/New_York:20190221T190000
DTEND;TZID=America/New_York:20190221T200000
DTSTAMP:20260420T195706
CREATED:20190115T201328Z
LAST-MODIFIED:20190116T173452Z
UID:2771-1550775600-1550779200@silverleafky.org
SUMMARY:Online Support Group
DESCRIPTION:LINK:  https://affiliate.rainn.org/helproom/SILVERLEAF \nSCAN:              \n  \nThe Silverleaf HelpRoom is anonymous and secure space for survivors of sexual violence to connect with each other. Contact us at 270-234-9236 or email us at contactus@silverleafky.org with questions.
URL:https://silverleafky.org/event/online-support-group-3/
CATEGORIES:Online Support
ATTACH;FMTTYPE=image/png:https://silverleafky.org/assets/uploads/2019/01/Online-Support-Group-2.png
END:VEVENT
BEGIN:VEVENT
DTSTART;TZID=America/New_York:20190207T190000
DTEND;TZID=America/New_York:20190207T200000
DTSTAMP:20260420T195706
CREATED:20190115T201009Z
LAST-MODIFIED:20190116T173409Z
UID:2765-1549566000-1549569600@silverleafky.org
SUMMARY:Online Support Group
DESCRIPTION:LINK:  https://affiliate.rainn.org/helproom/SILVERLEAF \nSCAN:              \n  \nThe Silverleaf HelpRoom is anonymous and secure space for survivors of sexual violence to connect with each other. Contact us at 270-234-9236 or email us at contactus@silverleafky.org with questions.
URL:https://silverleafky.org/event/online-support-group-2/
CATEGORIES:Online Support
ATTACH;FMTTYPE=image/png:https://silverleafky.org/assets/uploads/2019/01/Online-Support-Group-1.png
END:VEVENT
BEGIN:VEVENT
DTSTART;TZID=America/New_York:20190124T190000
DTEND;TZID=America/New_York:20190124T200000
DTSTAMP:20260420T195706
CREATED:20190115T200452Z
LAST-MODIFIED:20190116T173348Z
UID:2758-1548356400-1548360000@silverleafky.org
SUMMARY:Online Support Group
DESCRIPTION:LINK:  https://affiliate.rainn.org/helproom/SILVERLEAF \nSCAN:              \n  \nThe Silverleaf HelpRoom is anonymous and secure space for survivors of sexual violence to connect with each other. Contact us at 270-234-9236 or email us at contactus@silverleafky.org with questions.
URL:https://silverleafky.org/event/online-support-group/
CATEGORIES:Online Support
ATTACH;FMTTYPE=image/png:https://silverleafky.org/assets/uploads/2019/01/Online-Support-Group.png
END:VEVENT
END:VCALENDAR