BEGIN:VCALENDAR
VERSION:2.0
PRODID:-//Silverleaf Kentucky - ECPv6.3.2//NONSGML v1.0//EN
CALSCALE:GREGORIAN
METHOD:PUBLISH
X-ORIGINAL-URL:https://silverleafky.org
X-WR-CALDESC:Events for Silverleaf Kentucky
REFRESH-INTERVAL;VALUE=DURATION:PT1H
X-Robots-Tag:noindex
X-PUBLISHED-TTL:PT1H
BEGIN:VTIMEZONE
TZID:America/Kentucky/Louisville
BEGIN:DAYLIGHT
TZOFFSETFROM:-0500
TZOFFSETTO:-0400
TZNAME:EDT
DTSTART:20250309T070000
END:DAYLIGHT
BEGIN:STANDARD
TZOFFSETFROM:-0400
TZOFFSETTO:-0500
TZNAME:EST
DTSTART:20251102T060000
END:STANDARD
END:VTIMEZONE
BEGIN:VEVENT
DTSTART;TZID=America/Kentucky/Louisville:20250425T193000
DTEND;TZID=America/Kentucky/Louisville:20250425T193000
DTSTAMP:20260420T150046
CREATED:20250214T134206Z
LAST-MODIFIED:20250320T155858Z
UID:11400-1745609400-1745609400@silverleafky.org
SUMMARY:BHH SANE Shine the Light Awareness Walk
DESCRIPTION:The Baptist Health Hardin SANE program is hosting an awareness GLOW walk to acknowledge victims of sexual violence in honor of Sexual Violence Awareness Month. Please join us at Severns Valley Church in Elizabethtown. Glow sticks will be given at the event\, but attendees are encouraged and welcome to wear things that glow. Please join us as we shine light on sexual violence happening nationally and in our communities.
URL:https://silverleafky.org/event/bhh-sane-shine-light-awareness-walk/
LOCATION:Severens Valley Church\, 1100 Ring Road\, Elizabethtown\, KY\, 42701\, United States
CATEGORIES:SAAM
END:VEVENT
END:VCALENDAR