BEGIN:VCALENDAR
VERSION:2.0
PRODID:-//Silverleaf Kentucky - ECPv6.3.2//NONSGML v1.0//EN
CALSCALE:GREGORIAN
METHOD:PUBLISH
X-WR-CALNAME:Silverleaf Kentucky
X-ORIGINAL-URL:https://silverleafky.org
X-WR-CALDESC:Events for Silverleaf Kentucky
REFRESH-INTERVAL;VALUE=DURATION:PT1H
X-Robots-Tag:noindex
X-PUBLISHED-TTL:PT1H
BEGIN:VTIMEZONE
TZID:America/New_York
BEGIN:DAYLIGHT
TZOFFSETFROM:-0500
TZOFFSETTO:-0400
TZNAME:EDT
DTSTART:20190310T070000
END:DAYLIGHT
BEGIN:STANDARD
TZOFFSETFROM:-0400
TZOFFSETTO:-0500
TZNAME:EST
DTSTART:20191103T060000
END:STANDARD
END:VTIMEZONE
BEGIN:VEVENT
DTSTART;TZID=America/New_York:20191212T173000
DTEND;TZID=America/New_York:20191212T193000
DTSTAMP:20260420T011358
CREATED:20190912T141054Z
LAST-MODIFIED:20190912T141054Z
UID:4290-1576171800-1576179000@silverleafky.org
SUMMARY:Self-Care Evening
DESCRIPTION:The Silverleaf Svcs. office will be open to survivors of sexual violence for an evening of self-care activities from 5:30-7:30 p.m.. \nSurvivors are invited to participate in a variety of activities including: crafts\, journaling\, reading\, conversations\, crisis consultation\, aromatherapy\, and more. We will also have information on hand for the services we provide for those who are interested. \nSurvivors are welcome to attend this session\, as well as any others we have available. There is no cost associated with these events. To see other available sessions\, visit the Events tab here on our website or on our Facebook Page.
URL:https://silverleafky.org/event/self-care-evening-19/
CATEGORIES:Self Care
ATTACH;FMTTYPE=image/png:https://silverleafky.org/assets/uploads/2019/08/Self-Care-Evenings.png
END:VEVENT
BEGIN:VEVENT
DTSTART;TZID=America/New_York:20191114T173000
DTEND;TZID=America/New_York:20191114T193000
DTSTAMP:20260420T011358
CREATED:20190912T140959Z
LAST-MODIFIED:20190912T140959Z
UID:4288-1573752600-1573759800@silverleafky.org
SUMMARY:Self-Care Evening
DESCRIPTION:The Silverleaf Svcs. office will be open to survivors of sexual violence for an evening of self-care activities from 5:30-7:30 p.m.. \nSurvivors are invited to participate in a variety of activities including: crafts\, journaling\, reading\, conversations\, crisis consultation\, aromatherapy\, and more. We will also have information on hand for the services we provide for those who are interested. \nSurvivors are welcome to attend this session\, as well as any others we have available. There is no cost associated with these events. To see other available sessions\, visit the Events tab here on our website or on our Facebook Page.
URL:https://silverleafky.org/event/self-care-evening-18/
CATEGORIES:Self Care
ATTACH;FMTTYPE=image/png:https://silverleafky.org/assets/uploads/2019/08/Self-Care-Evenings.png
END:VEVENT
BEGIN:VEVENT
DTSTART;TZID=America/New_York:20191024T173000
DTEND;TZID=America/New_York:20191024T193000
DTSTAMP:20260420T011358
CREATED:20190912T140854Z
LAST-MODIFIED:20190923T160341Z
UID:4286-1571938200-1571945400@silverleafky.org
SUMMARY:Self-Care Evening with Sachia James & Anna Randall
DESCRIPTION:Survivors are invited to join us for a special Self-Care Evening meant to inspire\, encourage\, and empower! On Thursday\, October 24 we will be hosting a special presentation in our conference room with speakers Sachia James and Apostle Anna Randall. \nFor those who are interested in attending these talks\, Apostle Anna Randall\, Founder of Kingdom Empowerment International Ministries\, will give an inspiring talk about self-discovery. Sachia James\, Motivational Speaker & Life Coach\, will empower survivors with a thought-provoking talk on understanding your identity. \nThe rest of our space will be open to adult survivors who would like to participate in other self-care activities such as journaling\, coloring\, chatting with other survivors\, or taking some alone time to relax and decompress. \nSurvivors are welcome to attend this session\, as well as any others we have available. There is no cost associated with these events. To see other available sessions\, visit the Events tab here on our website or on our Facebook Page.
URL:https://silverleafky.org/event/self-care-evening-17/
CATEGORIES:Self Care
ATTACH;FMTTYPE=image/png:https://silverleafky.org/assets/uploads/2019/08/Self-Care-Evenings.png
END:VEVENT
BEGIN:VEVENT
DTSTART;TZID=America/New_York:20191010T173000
DTEND;TZID=America/New_York:20191010T193000
DTSTAMP:20260420T011358
CREATED:20190912T140724Z
LAST-MODIFIED:20190923T160553Z
UID:4284-1570728600-1570735800@silverleafky.org
SUMMARY:Self-Care Evening with LaTonya Gentry & CaTina Davis-Haynes
DESCRIPTION:Survivors are invited to join us for a special Self-Care Evening meant to inspire\, encourage\, and empower! On Thursday\, October 10 we will be hosting a special presentation in our conference room with speakers LaTonya Gentry and CaTina Davis-Haynes. \nFor those interested in attending these talks\, LaTonya Gentry\, Owner of Gentle Touch Consignment Boutique & Human Resource Specialist for the U.S. Army Human Resources Command\, will offer words of wisdom and healing about overcoming rejection and shame. CaTina Davis-Haynes\, Social Worker and Department of Defense Sexual Assault Advocate Level 2\, will empower survivors with a talk on knowing your worth. \nThe rest of our space will be open to adult survivors who would like to participate in other self-care activities such as journaling\, coloring\, chatting with other survivors\, or taking some alone time to relax and decompress. \nSurvivors are welcome to attend this session\, as well as any others we have available. There is no cost associated with these events. To see other available sessions\, visit the Events tab here on our website or on our Facebook Page.
URL:https://silverleafky.org/event/self-care-evening-16/
CATEGORIES:Self Care
ATTACH;FMTTYPE=image/png:https://silverleafky.org/assets/uploads/2019/08/Self-Care-Evenings.png
END:VEVENT
BEGIN:VEVENT
DTSTART;TZID=America/New_York:20190926T173000
DTEND;TZID=America/New_York:20190926T193000
DTSTAMP:20260420T011358
CREATED:20190822T133347Z
LAST-MODIFIED:20190912T140401Z
UID:3996-1569519000-1569526200@silverleafky.org
SUMMARY:Self-Care Evening with Sandy Moss
DESCRIPTION:We’re hosting special activities as part of our Self-Care Evenings at Silverleaf Svcs.! Our first special activity night will be September 26! ?️ Sandy Moss\, who teaches art and uses creativity to help individuals with their healing process\, will join us for an art class. Art supplies will be provided and she will offer guidance to participants as they work to create a beautiful\, unique piece of art. \n\nAs always\, Self-Care Evenings are open to all adult survivors and there is no cost to attend.
URL:https://silverleafky.org/event/self-care-evening-13/
LOCATION:Silverleaf Conference Room\, 751 S. Provident Way\, Elizabethtown\, KY\, 42701\, United States
CATEGORIES:Self Care
ATTACH;FMTTYPE=image/png:https://silverleafky.org/assets/uploads/2019/08/Self-Care-Evenings.png
END:VEVENT
BEGIN:VEVENT
DTSTART;TZID=America/New_York:20190912T173000
DTEND;TZID=America/New_York:20190912T193000
DTSTAMP:20260420T011358
CREATED:20190822T133656Z
LAST-MODIFIED:20190822T133656Z
UID:4001-1568309400-1568316600@silverleafky.org
SUMMARY:Self-Care Evening
DESCRIPTION:We will be opening our space to survivors of sexual violence for Self-Care Evenings on select dates from 5:30-7:30 p.m.. \nSurvivors are invited to participate in a variety of activities including: crafts\, journaling\, reading\, conversations\, crisis consultation\, aromatherapy\, and more. We will also have information on hand for the services we provide for those who are interested. \nSurvivors are welcome to attend this session\, as well as any others we have available. There is no cost associated with these events. To see other available sessions\, visit the Events tab on our page. \nYou are not alone.\nWe believe you.
URL:https://silverleafky.org/event/self-care-evening-15/
LOCATION:Silverleaf Conference Room\, 751 S. Provident Way\, Elizabethtown\, KY\, 42701\, United States
CATEGORIES:Self Care
ATTACH;FMTTYPE=image/jpeg:https://silverleafky.org/assets/uploads/2019/08/54728690_2032758230106058_5555236809476145152_n.jpg
END:VEVENT
BEGIN:VEVENT
DTSTART;TZID=America/New_York:20190822T173000
DTEND;TZID=America/New_York:20190822T193000
DTSTAMP:20260420T011358
CREATED:20190822T133518Z
LAST-MODIFIED:20190822T133518Z
UID:3999-1566495000-1566502200@silverleafky.org
SUMMARY:Self-Care Evening
DESCRIPTION:We will be opening our space to survivors of sexual violence for Self-Care Evenings on select dates from 5:30-7:30 p.m.. \nSurvivors are invited to participate in a variety of activities including: crafts\, journaling\, reading\, conversations\, crisis consultation\, aromatherapy\, and more. We will also have information on hand for the services we provide for those who are interested. \nSurvivors are welcome to attend this session\, as well as any others we have available. There is no cost associated with these events. To see other available sessions\, visit the Events tab on our page. \nYou are not alone.\nWe believe you.
URL:https://silverleafky.org/event/self-care-evening-14/
LOCATION:Silverleaf Conference Room\, 751 S. Provident Way\, Elizabethtown\, KY\, 42701\, United States
CATEGORIES:Self Care
ATTACH;FMTTYPE=image/jpeg:https://silverleafky.org/assets/uploads/2019/08/54728690_2032758230106058_5555236809476145152_n.jpg
END:VEVENT
BEGIN:VEVENT
DTSTART;TZID=America/New_York:20190627T173000
DTEND;TZID=America/New_York:20190627T193000
DTSTAMP:20260420T011358
CREATED:20190514T181022Z
LAST-MODIFIED:20190514T181022Z
UID:3413-1561656600-1561663800@silverleafky.org
SUMMARY:Self Care Evening
DESCRIPTION:
URL:https://silverleafky.org/event/self-care-evening-12/
LOCATION:Silverleaf Conference Room\, 751 S. Provident Way\, Elizabethtown\, KY\, 42701\, United States
CATEGORIES:Self Care
END:VEVENT
BEGIN:VEVENT
DTSTART;TZID=America/New_York:20190613T173000
DTEND;TZID=America/New_York:20190613T193000
DTSTAMP:20260420T011358
CREATED:20190514T180944Z
LAST-MODIFIED:20190514T180944Z
UID:3411-1560447000-1560454200@silverleafky.org
SUMMARY:Self Care Evening
DESCRIPTION:
URL:https://silverleafky.org/event/self-care-evening-11/
LOCATION:Silverleaf Conference Room\, 751 S. Provident Way\, Elizabethtown\, KY\, 42701\, United States
CATEGORIES:Self Care
END:VEVENT
BEGIN:VEVENT
DTSTART;TZID=America/New_York:20190523T173000
DTEND;TZID=America/New_York:20190523T193000
DTSTAMP:20260420T011358
CREATED:20190318T132923Z
LAST-MODIFIED:20190318T132923Z
UID:2888-1558632600-1558639800@silverleafky.org
SUMMARY:Self Care Evening
DESCRIPTION:
URL:https://silverleafky.org/event/self-care-evening-10/
LOCATION:Silverleaf Conference Room\, 751 S. Provident Way\, Elizabethtown\, KY\, 42701\, United States
CATEGORIES:Self Care
END:VEVENT
BEGIN:VEVENT
DTSTART;TZID=America/New_York:20190509T173000
DTEND;TZID=America/New_York:20190509T193000
DTSTAMP:20260420T011358
CREATED:20190318T132844Z
LAST-MODIFIED:20190318T132844Z
UID:2886-1557423000-1557430200@silverleafky.org
SUMMARY:Self Care Evening
DESCRIPTION:
URL:https://silverleafky.org/event/self-care-evening-9/
LOCATION:Silverleaf Conference Room\, 751 S. Provident Way\, Elizabethtown\, KY\, 42701\, United States
CATEGORIES:Self Care
END:VEVENT
BEGIN:VEVENT
DTSTART;TZID=America/New_York:20190425T173000
DTEND;TZID=America/New_York:20190425T193000
DTSTAMP:20260420T011358
CREATED:20190318T132747Z
LAST-MODIFIED:20190318T132747Z
UID:2884-1556213400-1556220600@silverleafky.org
SUMMARY:Self Care Evening
DESCRIPTION:
URL:https://silverleafky.org/event/self-care-evening-8/
LOCATION:Silverleaf Conference Room\, 751 S. Provident Way\, Elizabethtown\, KY\, 42701\, United States
CATEGORIES:Self Care
END:VEVENT
BEGIN:VEVENT
DTSTART;TZID=America/New_York:20190411T173000
DTEND;TZID=America/New_York:20190411T193000
DTSTAMP:20260420T011358
CREATED:20190318T132622Z
LAST-MODIFIED:20190318T132622Z
UID:2882-1555003800-1555011000@silverleafky.org
SUMMARY:Self Care Evening
DESCRIPTION:
URL:https://silverleafky.org/event/self-care-evening-7/
LOCATION:Silverleaf Conference Room\, 751 S. Provident Way\, Elizabethtown\, KY\, 42701\, United States
CATEGORIES:Self Care
END:VEVENT
BEGIN:VEVENT
DTSTART;TZID=America/New_York:20190328T173000
DTEND;TZID=America/New_York:20190328T193000
DTSTAMP:20260420T011358
CREATED:20190115T203250Z
LAST-MODIFIED:20190115T203250Z
UID:2789-1553794200-1553801400@silverleafky.org
SUMMARY:Self Care Evening
DESCRIPTION:
URL:https://silverleafky.org/event/self-care-evening-6/
LOCATION:Silverleaf Conference Room\, 751 S. Provident Way\, Elizabethtown\, KY\, 42701\, United States
CATEGORIES:Self Care
ATTACH;FMTTYPE=image/png:https://silverleafky.org/assets/uploads/2019/01/7.png
END:VEVENT
BEGIN:VEVENT
DTSTART;TZID=America/New_York:20190314T173000
DTEND;TZID=America/New_York:20190314T193000
DTSTAMP:20260420T011358
CREATED:20190115T202433Z
LAST-MODIFIED:20190115T202433Z
UID:2780-1552584600-1552591800@silverleafky.org
SUMMARY:Self Care Evening
DESCRIPTION:
URL:https://silverleafky.org/event/self-care-evening-5/
LOCATION:Silverleaf Conference Room\, 751 S. Provident Way\, Elizabethtown\, KY\, 42701\, United States
CATEGORIES:Self Care
ATTACH;FMTTYPE=image/png:https://silverleafky.org/assets/uploads/2019/01/6.png
END:VEVENT
BEGIN:VEVENT
DTSTART;TZID=America/New_York:20190228T173000
DTEND;TZID=America/New_York:20190228T193000
DTSTAMP:20260420T011358
CREATED:20190115T201422Z
LAST-MODIFIED:20190115T201422Z
UID:2774-1551375000-1551382200@silverleafky.org
SUMMARY:Self Care Evening
DESCRIPTION:
URL:https://silverleafky.org/event/self-care-evening-4/
LOCATION:Silverleaf Conference Room\, 751 S. Provident Way\, Elizabethtown\, KY\, 42701\, United States
CATEGORIES:Self Care
ATTACH;FMTTYPE=image/png:https://silverleafky.org/assets/uploads/2019/01/5.png
END:VEVENT
BEGIN:VEVENT
DTSTART;TZID=America/New_York:20190214T173000
DTEND;TZID=America/New_York:20190214T193000
DTSTAMP:20260420T011358
CREATED:20190115T201110Z
LAST-MODIFIED:20190115T201110Z
UID:2768-1550165400-1550172600@silverleafky.org
SUMMARY:Self Care Evening
DESCRIPTION:
URL:https://silverleafky.org/event/self-care-evening-3/
LOCATION:Silverleaf Conference Room\, 751 S. Provident Way\, Elizabethtown\, KY\, 42701\, United States
CATEGORIES:Self Care
ATTACH;FMTTYPE=image/png:https://silverleafky.org/assets/uploads/2019/01/4.png
END:VEVENT
BEGIN:VEVENT
DTSTART;TZID=America/New_York:20190131T173000
DTEND;TZID=America/New_York:20190131T193000
DTSTAMP:20260420T011358
CREATED:20190115T200806Z
LAST-MODIFIED:20190115T200806Z
UID:2762-1548955800-1548963000@silverleafky.org
SUMMARY:Self Care Evening
DESCRIPTION:
URL:https://silverleafky.org/event/self-care-evening-2/
LOCATION:Silverleaf Conference Room\, 751 S. Provident Way\, Elizabethtown\, KY\, 42701\, United States
CATEGORIES:Self Care
ATTACH;FMTTYPE=image/png:https://silverleafky.org/assets/uploads/2019/01/3.png
END:VEVENT
BEGIN:VEVENT
DTSTART;TZID=America/New_York:20190117T173000
DTEND;TZID=America/New_York:20190117T193000
DTSTAMP:20260420T011358
CREATED:20190115T195156Z
LAST-MODIFIED:20190115T195730Z
UID:2754-1547746200-1547753400@silverleafky.org
SUMMARY:Self Care Evening
DESCRIPTION:
URL:https://silverleafky.org/event/self-care-evening/
LOCATION:Silverleaf Conference Room\, 751 S. Provident Way\, Elizabethtown\, KY\, 42701\, United States
CATEGORIES:Self Care
END:VEVENT
END:VCALENDAR