BEGIN:VCALENDAR
VERSION:2.0
PRODID:-//Silverleaf Kentucky - ECPv6.3.2//NONSGML v1.0//EN
CALSCALE:GREGORIAN
METHOD:PUBLISH
X-WR-CALNAME:Silverleaf Kentucky
X-ORIGINAL-URL:https://silverleafky.org
X-WR-CALDESC:Events for Silverleaf Kentucky
REFRESH-INTERVAL;VALUE=DURATION:PT1H
X-Robots-Tag:noindex
X-PUBLISHED-TTL:PT1H
BEGIN:VTIMEZONE
TZID:America/New_York
BEGIN:DAYLIGHT
TZOFFSETFROM:-0500
TZOFFSETTO:-0400
TZNAME:EDT
DTSTART:20190310T070000
END:DAYLIGHT
BEGIN:STANDARD
TZOFFSETFROM:-0400
TZOFFSETTO:-0500
TZNAME:EST
DTSTART:20191103T060000
END:STANDARD
BEGIN:DAYLIGHT
TZOFFSETFROM:-0500
TZOFFSETTO:-0400
TZNAME:EDT
DTSTART:20200308T070000
END:DAYLIGHT
BEGIN:STANDARD
TZOFFSETFROM:-0400
TZOFFSETTO:-0500
TZNAME:EST
DTSTART:20201101T060000
END:STANDARD
END:VTIMEZONE
BEGIN:VEVENT
DTSTART;TZID=America/New_York:20200121T170000
DTEND;TZID=America/New_York:20200121T180000
DTSTAMP:20260420T230613
CREATED:20191220T212233Z
LAST-MODIFIED:20191220T212233Z
UID:5166-1579626000-1579629600@silverleafky.org
SUMMARY:Survivors Council Meeting
DESCRIPTION:Silverleaf Sexual Trauma Recovery Svcs. strives to be a survivor-informed organization\, ensuring that we provide the best possible services to every individual impacted by sexual violence. At this time\, we are in the beginning stages of forming a Survivors Council that will act as a sounding board for our agency\, projects\, and initiatives. \nIf you are….\n• 18-years-old or older\n• Have been a survivor of sexual violence at some point in your life\n• Have a desire to serve other survivors\n• Can meet every other month \nWe would love for you to attend our January Survivor’s Council Meeting to learn more!
URL:https://silverleafky.org/event/survivors-council-meeting/
CATEGORIES:Survivors Council
ATTACH;FMTTYPE=image/png:https://silverleafky.org/assets/uploads/2019/12/January-Survivors-Council.png
END:VEVENT
BEGIN:VEVENT
DTSTART;TZID=America/New_York:20191203T170000
DTEND;TZID=America/New_York:20191203T180000
DTSTAMP:20260420T230613
CREATED:20191115T195230Z
LAST-MODIFIED:20191115T195230Z
UID:4909-1575392400-1575396000@silverleafky.org
SUMMARY:Survivors Council: Open Meeting
DESCRIPTION:Silverleaf Sexual Trauma Recovery Svcs. strives to be a survivor-informed organization\, ensuring that we provide the best possible services to every individual impacted by sexual violence. At this time\, we are in the beginning stages of forming a Survivors Council that will act as a sounding board for our agency\, projects\, and initiatives. \nIf you are….\n• 18-years-old or older\n• Have been a survivor of sexual violence at some point in your life\n• Have a desire to serve other survivors\n• Can meet every other month \nWe would love for you to attend our Survivors Council: Open Meeting to learn more!
URL:https://silverleafky.org/event/survivors-council-open-meeting/
CATEGORIES:Survivors Council
ATTACH;FMTTYPE=image/png:https://silverleafky.org/assets/uploads/2019/11/SSC2.png
END:VEVENT
END:VCALENDAR