BEGIN:VCALENDAR
VERSION:2.0
PRODID:-//Silverleaf Kentucky - ECPv6.3.2//NONSGML v1.0//EN
CALSCALE:GREGORIAN
METHOD:PUBLISH
X-WR-CALNAME:Silverleaf Kentucky
X-ORIGINAL-URL:https://silverleafky.org
X-WR-CALDESC:Events for Silverleaf Kentucky
REFRESH-INTERVAL;VALUE=DURATION:PT1H
X-Robots-Tag:noindex
X-PUBLISHED-TTL:PT1H
BEGIN:VTIMEZONE
TZID:America/New_York
BEGIN:DAYLIGHT
TZOFFSETFROM:-0500
TZOFFSETTO:-0400
TZNAME:EDT
DTSTART:20200308T070000
END:DAYLIGHT
BEGIN:STANDARD
TZOFFSETFROM:-0400
TZOFFSETTO:-0500
TZNAME:EST
DTSTART:20201101T060000
END:STANDARD
END:VTIMEZONE
BEGIN:VEVENT
DTSTART;TZID=America/New_York:20200124T163000
DTEND;TZID=America/New_York:20200124T173000
DTSTAMP:20260425T121836
CREATED:20200109T213124Z
LAST-MODIFIED:20200109T213124Z
UID:5356-1579883400-1579887000@silverleafky.org
SUMMARY:Trauma-Informed Yoga Class
DESCRIPTION:We are offering trauma-informed yoga classes in our newly renovated studio space! ??‍♀️ These classes will be taught with survivor experiences in mind and with the intent of minimizing potential triggers. \nSurvivors age 18 and older are welcome to join us for FREE yoga classes on the second and fourth Fridays of each month from 4:30-5:30 p.m.. Classes will be taught by certified instructor and Silverleaf Sexual Trauma Recovery Svcs. Educator/Prevention Specialist\, Amy Hanninen. \nIf you have any questions\, feel free to give the office a call at (270) 234-9236.
URL:https://silverleafky.org/event/trauma-informed-yoga-class/
CATEGORIES:Yoga Class
ATTACH;FMTTYPE=image/png:https://silverleafky.org/assets/uploads/2020/01/Silverleaf-Yoga.png
END:VEVENT
END:VCALENDAR